BEGIN:VCALENDAR
VERSION:2.0
PRODID:-//WISCONSIN PUBLIC EDUCATION NETWORK - ECPv6.6.4.1//NONSGML v1.0//EN
CALSCALE:GREGORIAN
METHOD:PUBLISH
X-ORIGINAL-URL:https://www.old.WisconsinNetwork.org
X-WR-CALDESC:Events for WISCONSIN PUBLIC EDUCATION NETWORK
REFRESH-INTERVAL;VALUE=DURATION:PT1H
X-Robots-Tag:noindex
X-PUBLISHED-TTL:PT1H
BEGIN:VTIMEZONE
TZID:America/Chicago
BEGIN:DAYLIGHT
TZOFFSETFROM:-0600
TZOFFSETTO:-0500
TZNAME:CDT
DTSTART:20250309T080000
END:DAYLIGHT
BEGIN:STANDARD
TZOFFSETFROM:-0500
TZOFFSETTO:-0600
TZNAME:CST
DTSTART:20251102T070000
END:STANDARD
END:VTIMEZONE
BEGIN:VEVENT
DTSTART;TZID=America/Chicago:20250507T183000
DTEND;TZID=America/Chicago:20250507T203000
DTSTAMP:20260424T081851
CREATED:20250407T164306Z
LAST-MODIFIED:20250407T164344Z
UID:8102-1746642600-1746649800@www.old.WisconsinNetwork.org
SUMMARY:School Board Champion Onboarding 2025
DESCRIPTION:Connect with public school champions around the state to maximize your impact as a board member! School finance basics! Advocacy pro-tips! Learn how to build trust as an education leader\, engage your community productively\, and work effectively with educators\, administrators\, labor and more! This event is co-hosted with WEAC. Special guests to be announced\, including our friends from Local Progress and Wisconsin Progress. Free and open to all public school champions! \nREGISTER HERE
URL:https://www.old.WisconsinNetwork.org/event/school-board-champion-onboarding-2025/
LOCATION:Zoom
END:VEVENT
BEGIN:VEVENT
DTSTART;VALUE=DATE:20250724
DTEND;VALUE=DATE:20250725
DTSTAMP:20260424T081851
CREATED:20250117T230353Z
LAST-MODIFIED:20250117T230353Z
UID:7876-1753315200-1753401599@www.old.WisconsinNetwork.org
SUMMARY:Wisconsin Public Education Network 11th Annual Summer Summit
DESCRIPTION:SAVE THE DATE for the public education advocacy gathering of the year! \nOur 11th Annual Summer Summit will be hosted by Green Bay Public School District at Preble High School in Green Bay on Thursday\, July 24\, 2025. Come for a full day of learning\, networking\, and action-focused strategizing with public education champions from every corner of the state! \nLearn more at www.WisconsinNetwork.org/Summit! \nJoin us on Wednesday for our Welcome Reception on July 23 (details tbd) cohosted by our friends at Wisconsin Community Schools Coalition (which is hosting their own conference July 23 – learn more at bitl.ly/WI_CS_Conference)
URL:https://www.old.WisconsinNetwork.org/event/wisconsin-public-education-network-11th-annual-summer-summit/
LOCATION:preble high school green bay\, 2222 Deckner Ave\, Green Bay\, WI\, 54302\, United States
ATTACH;FMTTYPE=image/png:https://old.wisconsinnetwork.org/wp-content/uploads/2025/01/2025-Summer-Summit-1080-x-680-px-e1737153032459.png
END:VEVENT
END:VCALENDAR