BEGIN:VCALENDAR
VERSION:2.0
PRODID:-//WISCONSIN PUBLIC EDUCATION NETWORK - ECPv6.6.4.1//NONSGML v1.0//EN
CALSCALE:GREGORIAN
METHOD:PUBLISH
X-WR-CALNAME:WISCONSIN PUBLIC EDUCATION NETWORK
X-ORIGINAL-URL:https://www.old.WisconsinNetwork.org
X-WR-CALDESC:Events for WISCONSIN PUBLIC EDUCATION NETWORK
REFRESH-INTERVAL;VALUE=DURATION:PT1H
X-Robots-Tag:noindex
X-PUBLISHED-TTL:PT1H
BEGIN:VTIMEZONE
TZID:America/Chicago
BEGIN:DAYLIGHT
TZOFFSETFROM:-0600
TZOFFSETTO:-0500
TZNAME:CDT
DTSTART:20230312T080000
END:DAYLIGHT
BEGIN:STANDARD
TZOFFSETFROM:-0500
TZOFFSETTO:-0600
TZNAME:CST
DTSTART:20231105T070000
END:STANDARD
END:VTIMEZONE
BEGIN:VEVENT
DTSTART;TZID=America/Chicago:20231121T090000
DTEND;TZID=America/Chicago:20231121T090000
DTSTAMP:20260419T230543
CREATED:20231130T155412Z
LAST-MODIFIED:20240111T235143Z
UID:6906-1700557200-1700557200@www.old.WisconsinNetwork.org
SUMMARY:Partner Action: Wisconsin Fair Maps Coalition Rally at the Wisconsin Supreme Court
DESCRIPTION:
URL:https://www.old.WisconsinNetwork.org/event/partner-action-wisconsin-fair-maps-coalition-rally-at-the-wisconsin-supreme-court/
LOCATION:Wisconsin State Capitol
END:VEVENT
BEGIN:VEVENT
DTSTART;TZID=America/Chicago:20231018T190000
DTEND;TZID=America/Chicago:20231018T203000
DTSTAMP:20260419T230543
CREATED:20230817T134555Z
LAST-MODIFIED:20240111T235158Z
UID:6485-1697655600-1697661000@www.old.WisconsinNetwork.org
SUMMARY:Hot Topics in Student Discrimination: Racial Harassment\, Discipline Issues\, and Gender Affirmation (Public School Law Series)
DESCRIPTION:Hot Topics in Student Discrimination: Racial Harassment\, Discipline Issues\, and Gender Affirmation with Elisabeth Lambert \nREGISTER HERE \nPart of Wisconsin Public Education Network’s Public School Law Series: Mark your calendars for this interactive\, action-focused series of seminars with education lawyers to learn more about how school law works\, how to maximize opportunities for connections\, and how to best advocate for your child and the public schools all children deserve. \nThis three-part series will be held on Wednesdays in October from 7:00 to 8:30 pm. Free and open to all\, but especially useful for Network partners\, community members looking to navigate school engagement and understanding\, board members\, and administrators.
URL:https://www.old.WisconsinNetwork.org/event/hot-topics-in-student-discrimination-racial-harassment-discipline-issues-and-gender-affirmation-public-school-law-series/
LOCATION:Zoom
END:VEVENT
BEGIN:VEVENT
DTSTART;TZID=America/Chicago:20231011T190000
DTEND;TZID=America/Chicago:20231011T203000
DTSTAMP:20260419T230543
CREATED:20230817T134330Z
LAST-MODIFIED:20240111T235212Z
UID:6483-1697050800-1697056200@www.old.WisconsinNetwork.org
SUMMARY:Recent Legal Developments Involving Voucher and Charter Schools (Public School Law Series)
DESCRIPTION:Recent Legal Developments Involving Voucher and Charter Schools with Suzanne Eckes \nREGISTER HERE \nPart of Wisconsin Public Education Network’s Public School Law Series: Mark your calendars for this interactive\, action-focused series of seminars with education lawyers to learn more about how school law works\, how to maximize opportunities for connections\, and how to best advocate for your child and the public schools all children deserve. \nThis three-part series will be held on Wednesdays in October from 7:00 to 8:30 pm. Free and open to all\, but especially useful for Network partners\, community members looking to navigate school engagement and understanding\, board members\, and administrators.
URL:https://www.old.WisconsinNetwork.org/event/recent-legal-developments-involving-voucher-and-charter-schools-public-school-law-series/
LOCATION:Zoom
END:VEVENT
BEGIN:VEVENT
DTSTART;TZID=America/Chicago:20231004T190000
DTEND;TZID=America/Chicago:20231004T203000
DTSTAMP:20260419T230543
CREATED:20230817T134036Z
LAST-MODIFIED:20240111T235227Z
UID:6479-1696446000-1696451400@www.old.WisconsinNetwork.org
SUMMARY:Engagement Within the School Board Governance Structure (Public School Law Series)
DESCRIPTION:Engagement Within the School Board Governance Structure with Mike Julka \nREGISTER HERE \nPart of Wisconsin Public Education Network’s Public School Law Series: Mark your calendars for this interactive\, action-focused series of seminars with education lawyers to learn more about how school law works\, how to maximize opportunities for connections\, and how to best advocate for your child and the public schools all children deserve. \nThis three-part series will be held on Wednesdays in October from 7:00 to 8:30 pm. Free and open to all\, but especially useful for Network partners\, community members looking to navigate school engagement and understanding\, board members\, and administrators.
URL:https://www.old.WisconsinNetwork.org/event/engagement-within-the-school-board-governance-structure-public-school-law-series/
LOCATION:Zoom
END:VEVENT
BEGIN:VEVENT
DTSTART;TZID=America/Chicago:20230810T080000
DTEND;TZID=America/Chicago:20230810T180000
DTSTAMP:20260419T230543
CREATED:20230523T172231Z
LAST-MODIFIED:20240111T235244Z
UID:6214-1691654400-1691690400@www.old.WisconsinNetwork.org
SUMMARY:9th Annual Summer Summit in South Milwaukee!
DESCRIPTION:REGISTER TODAY to reserve your ticket(s) and join us at our largest annual event!
URL:https://www.old.WisconsinNetwork.org/event/9th-annual-summer-summit-in-south-milwaukee/
LOCATION:South Milwaukee High School\, 801 15th Ave\, South Milwaukee\, WI\, 53172\, United States
ATTACH;FMTTYPE=image/png:https://old.wisconsinnetwork.org/wp-content/uploads/2023/05/Summer-Summit-Water-Promotional-Graphics-1.png
END:VEVENT
BEGIN:VEVENT
DTSTART;VALUE=DATE:20230627
DTEND;VALUE=DATE:20230628
DTSTAMP:20260419T230543
CREATED:20230623T195455Z
LAST-MODIFIED:20240111T235300Z
UID:6335-1687824000-1687910399@www.old.WisconsinNetwork.org
SUMMARY:WHAT'S BEST FOR KIDS Action at the Capitol
DESCRIPTION:
URL:https://www.old.WisconsinNetwork.org/event/whats-best-for-kids-action-at-the-capitol/
LOCATION:Wisconsin State Capitol
END:VEVENT
END:VCALENDAR